BEGIN:VCALENDAR
VERSION:2.0
PRODID:-//AudioTheme 2.3.7
BEGIN:VEVENT
UID:urn:uuid:d620eaf9-7890-42e0-a48b-9747c1c54a77
URL:https://volskiy.de/live-jazz-hamburg/a-tribute-to-joachim-gerth/
DTSTART;TZID=GMT:20200222T200000
SUMMARY:A Tribute to Joachim Gerth
DESCRIPTION:<b>Quartett Cool</b> feat.<b> Melf Hollmer</b><br><b>Nat King Thomas Trio</b><br><b>Just Jazz Quartett</b><br><b>Leo Volskiy Trio</b> feat. Friends<br>.  Alle teilnehmenden Musiker spenden ihre Gagen an die <a href="https://www.facebook.com/deutschekrebshilfe/">Deutsche Krebshilfe</a>  
LOCATION:Birdland Jazz Club\, Gärtnerstraße 122\, Hamburg\, \, 20253
END:VEVENT
END:VCALENDAR
